BEGIN:VCALENDAR
VERSION:2.0
PRODID:-//JoyAndInk - ECPv6.15.11//NONSGML v1.0//EN
CALSCALE:GREGORIAN
METHOD:PUBLISH
X-WR-CALNAME:JoyAndInk
X-ORIGINAL-URL:https://joyandink.org
X-WR-CALDESC:Events for JoyAndInk
REFRESH-INTERVAL;VALUE=DURATION:PT1H
X-Robots-Tag:noindex
X-PUBLISHED-TTL:PT1H
BEGIN:VTIMEZONE
TZID:America/New_York
BEGIN:DAYLIGHT
TZOFFSETFROM:-0500
TZOFFSETTO:-0400
TZNAME:EDT
DTSTART:20230312T070000
END:DAYLIGHT
BEGIN:STANDARD
TZOFFSETFROM:-0400
TZOFFSETTO:-0500
TZNAME:EST
DTSTART:20231105T060000
END:STANDARD
BEGIN:DAYLIGHT
TZOFFSETFROM:-0500
TZOFFSETTO:-0400
TZNAME:EDT
DTSTART:20240310T070000
END:DAYLIGHT
BEGIN:STANDARD
TZOFFSETFROM:-0400
TZOFFSETTO:-0500
TZNAME:EST
DTSTART:20241103T060000
END:STANDARD
BEGIN:DAYLIGHT
TZOFFSETFROM:-0500
TZOFFSETTO:-0400
TZNAME:EDT
DTSTART:20250309T070000
END:DAYLIGHT
BEGIN:STANDARD
TZOFFSETFROM:-0400
TZOFFSETTO:-0500
TZNAME:EST
DTSTART:20251102T060000
END:STANDARD
END:VTIMEZONE
BEGIN:VEVENT
DTSTART;TZID=America/New_York:20240413T103000
DTEND;TZID=America/New_York:20240413T113000
DTSTAMP:20260421T093116
CREATED:20231201T154740Z
LAST-MODIFIED:20231201T154930Z
UID:703-1713004200-1713007800@joyandink.org
SUMMARY:Children's Cancer Center
DESCRIPTION:(Students Achieving through Interactive Learning) an education-based program\, held on most Saturdays during the school year at the center\, providing homework assistance and facilitated activities focusing on art\, music\, drama\, sports and science. Program open to all children diagnosed with cancer or chronic blood disorders and siblings ages 5 years and up.
URL:https://joyandink.org/event/childrens-cancer-center/
LOCATION:FL
END:VEVENT
END:VCALENDAR