BEGIN:VCALENDAR
VERSION:2.0
PRODID:-//JoyAndInk - ECPv6.15.11//NONSGML v1.0//EN
CALSCALE:GREGORIAN
METHOD:PUBLISH
X-ORIGINAL-URL:https://joyandink.org
X-WR-CALDESC:Events for JoyAndInk
REFRESH-INTERVAL;VALUE=DURATION:PT1H
X-Robots-Tag:noindex
X-PUBLISHED-TTL:PT1H
BEGIN:VTIMEZONE
TZID:America/New_York
BEGIN:DAYLIGHT
TZOFFSETFROM:-0500
TZOFFSETTO:-0400
TZNAME:EDT
DTSTART:20220313T070000
END:DAYLIGHT
BEGIN:STANDARD
TZOFFSETFROM:-0400
TZOFFSETTO:-0500
TZNAME:EST
DTSTART:20221106T060000
END:STANDARD
BEGIN:DAYLIGHT
TZOFFSETFROM:-0500
TZOFFSETTO:-0400
TZNAME:EDT
DTSTART:20230312T070000
END:DAYLIGHT
BEGIN:STANDARD
TZOFFSETFROM:-0400
TZOFFSETTO:-0500
TZNAME:EST
DTSTART:20231105T060000
END:STANDARD
BEGIN:DAYLIGHT
TZOFFSETFROM:-0500
TZOFFSETTO:-0400
TZNAME:EDT
DTSTART:20240310T070000
END:DAYLIGHT
BEGIN:STANDARD
TZOFFSETFROM:-0400
TZOFFSETTO:-0500
TZNAME:EST
DTSTART:20241103T060000
END:STANDARD
END:VTIMEZONE
BEGIN:VEVENT
DTSTART;TZID=America/New_York:20230915T140000
DTEND;TZID=America/New_York:20230915T170000
DTSTAMP:20260423T142224
CREATED:20230830T163215Z
LAST-MODIFIED:20230830T163215Z
UID:673-1694786400-1694797200@joyandink.org
SUMMARY:John Hopkins All Children's Hospital
DESCRIPTION:Joy And Ink is looking forward to bringing our Mini-Con to the children at John Hopkins!!! 🙂
URL:https://joyandink.org/event/john-hopkins-all-childrens-hospital/
LOCATION:John’s Hopkins All Children’s Hospital\, 501 6th Ave S\, St. Petersburg\, FL\, 33701\, United States
END:VEVENT
END:VCALENDAR